BEGIN:VCALENDAR
VERSION:2.0
PRODID:-//eventon.com NONSGML v1.0//EN
CALSCALE:GREGORIAN
METHOD:PUBLISH
BEGIN:VEVENT
UID:69e4fcce92dd4
DTSTAMP:20260419T160326Z
DTSTART:20231120
DTEND:20231121
LOCATION:
SUMMARY:Semana del Párvulo
DESCRIPTION:\nhttps://colegiopucon.com/events/semana-del-parvulo/
URL:https://colegiopucon.com/events/semana-del-parvulo/
END:VEVENT
END:VCALENDAR