BEGIN:VCALENDAR
VERSION:2.0
PRODID:-//eventon.com NONSGML v1.0//EN
CALSCALE:GREGORIAN
METHOD:PUBLISH
BEGIN:VEVENT
UID:69e88e639a670
DTSTAMP:20260422T090123Z
DTSTART:20240429
DTEND:20240430
LOCATION:
SUMMARY:Premiación Simce II Medio año 2023
DESCRIPTION:Premiación Simce II Medio año 2023\nhttps://colegiopucon.com/
 events/premiacion-simce-ii-medio-ano-2023/
URL:https://colegiopucon.com/events/premiacion-simce-ii-medio-ano-2023/
END:VEVENT
END:VCALENDAR