BEGIN:VCALENDAR
VERSION:2.0
PRODID:-//eventon.com NONSGML v1.0//EN
CALSCALE:GREGORIAN
METHOD:PUBLISH
BEGIN:VEVENT
UID:69e893436bd21
DTSTAMP:20260422T092211Z
DTSTART:20240529
DTEND:20240530
LOCATION:
SUMMARY:Reunión de apoderados Kínder\,  2°\,  6° y 7° Básico\,   II° Ed. Media
DESCRIPTION:Reunión de apoderados Kínder\,  2°\,  6° y 7° Básico\,  I
 I° Ed. Media\nhttps://colegiopucon.com/events/reunion-de-apoderados/
URL:https://colegiopucon.com/events/reunion-de-apoderados/
END:VEVENT
END:VCALENDAR