BEGIN:VCALENDAR
VERSION:2.0
PRODID:-//eventon.com NONSGML v1.0//EN
CALSCALE:GREGORIAN
METHOD:PUBLISH
BEGIN:VEVENT
UID:69ec94d77a5f5
DTSTAMP:20260425T101759Z
DTSTART:20241018
DTEND:20241019
LOCATION:
SUMMARY:Día del Profesor (sin clases)
DESCRIPTION:Día del Profesor (sin clases)\nhttps://colegiopucon.com/events
 /dia-del-profesor-sin-clases/
URL:https://colegiopucon.com/events/dia-del-profesor-sin-clases/
END:VEVENT
END:VCALENDAR