BEGIN:VCALENDAR
VERSION:2.0
PRODID:-//eventon.com NONSGML v1.0//EN
CALSCALE:GREGORIAN
METHOD:PUBLISH
BEGIN:VEVENT
UID:69ea343742c87
DTSTAMP:20260423T150111Z
DTSTART:20241115
DTEND:20241116
LOCATION:
SUMMARY:Postulación proceso complementario SAE
DESCRIPTION:Postulación proceso complementario SAE\nhttps://colegiopucon.c
 om/events/postulacion-proceso-complementario-sae/
URL:https://colegiopucon.com/events/postulacion-proceso-complementario-sae/
END:VEVENT
END:VCALENDAR