BEGIN:VCALENDAR
VERSION:2.0
PRODID:-//eventon.com NONSGML v1.0//EN
CALSCALE:GREGORIAN
METHOD:PUBLISH
BEGIN:VEVENT
UID:69e739852fa1d
DTSTAMP:20260421T084701Z
DTSTART:20241209
DTEND:20241210
LOCATION:
SUMMARY:Matrícula Alumnos de Continuidad
DESCRIPTION:Matrícula Alumnos de Continuidad\nhttps://colegiopucon.com/eve
 nts/matricula-alumnos-de-continuidad/
URL:https://colegiopucon.com/events/matricula-alumnos-de-continuidad/
END:VEVENT
END:VCALENDAR