BEGIN:VCALENDAR
VERSION:2.0
PRODID:-//eventon.com NONSGML v1.0//EN
CALSCALE:GREGORIAN
METHOD:PUBLISH
BEGIN:VEVENT
UID:69e88ef9bdcbb
DTSTAMP:20260422T090353Z
DTSTART:20240913
DTEND:20240914
LOCATION:
SUMMARY:10:00 hrs. - Acto 1 Fiestas Patrias (PK a 4° Básico)
DESCRIPTION:10:00 hrs. - Acto 1 Fiestas Patrias (PK a 4° Básico)\nhttps:/
 /colegiopucon.com/events/acto-1-fiestas-patrias/
URL:https://colegiopucon.com/events/acto-1-fiestas-patrias/
END:VEVENT
END:VCALENDAR