BEGIN:VCALENDAR
VERSION:2.0
PRODID:-//eventon.com NONSGML v1.0//EN
CALSCALE:GREGORIAN
METHOD:PUBLISH
BEGIN:VEVENT
UID:69e9e935760dd
DTSTAMP:20260423T094109Z
DTSTART:20241209
DTEND:20241210
LOCATION:
SUMMARY:Matrícula 1° y 2° básico
DESCRIPTION:Matrícula 1° y 2° básico\nhttps://colegiopucon.com/events/m
 atricula-1-y-2-basico/
URL:https://colegiopucon.com/events/matricula-1-y-2-basico/
END:VEVENT
END:VCALENDAR